BEGIN:VCALENDAR
VERSION:2.0
METHOD:PUBLISH
PRODID:-//Agenda.ad//NONSGML v1.0//EN
BEGIN:VEVENT
CLASS:PUBLIC
UID:7a6e76845c980776b7515e3ddf71c127@agenda.ad
DTSTAMP:20260422T044922Z
DTSTART:20190208T230000Z
DTEND:20190208T230000Z
SUMMARY:Festa de la Neu del Club Piolet
DESCRIPTION:\n\nMés informació\nhttps://www.agenda.ad/activitat/la-mas
 sana/activitats-infantils/festa-de-la-neu-del-club-piolet \
 n\n\nOrganitza\nRTVASA · Vallnord
LOCATION:Sector Pal / Grandvalira Resorts
SEQUENCE:0
TRANSP:OPAQUE
X-ALT-DESC;FMTTYPE=text/html:<!DOCTYPE HTML PUBLIC "-//W3C//DTD HTML 3.2//EN"><HTML><HEAD
 ><TITLE></TITLE></HEAD><BODY><FONT FACE="Arial" SIZE=2><br/>
 <br/><b>Més informació</b><br/><a href="https://www.agenda
 .ad/activitat/la-massana/activitats-infantils/festa-de-la-ne
 u-del-club-piolet ">https://www.agenda.ad/activitat/la-mass
 ana/activitats-infantils/festa-de-la-neu-del-club-piolet </
 a><br/><br/><br/><b>Organitza</b><br/>RTVASA · Vallnord</FO
 NT></BODY></HTML>
END:VEVENT
END:VCALENDAR